BEGIN:VCALENDAR
VERSION:2.0
PRODID:-//eventon.com NONSGML v1.0//EN
CALSCALE:GREGORIAN
METHOD:PUBLISH
BEGIN:VEVENT
UID:69ed767f5f895
DTSTAMP:20260426T022047Z
DTSTART:20260516T154900Z
DTEND:20260516T154900Z
LOCATION:
SUMMARY:XIV. KÖZIG Foci Kupa és Családi Nap
DESCRIPTION:Az OMSZ SE részt vesz a XIV. KÖZIG Foci Kupa és Családi Nap
  rendezvényen\,  amely 2026. május 16-án\,  szombaton kerül lebonyolít
 ásra a budapesti IKARUS BSE sporttelepen. A mentők csapata az eddigi éve
 kben kiváló teljesítménnyel vett részt az év legnagyobb közigazgatá
 si sporteseményén\,  szurkoljunk együtt nekik idén is!\nhttps://omszse.
 hu/esemenyek/xiv-kozig-foci-kupa-es-csaladi-nap/
URL:https://omszse.hu/esemenyek/xiv-kozig-foci-kupa-es-csaladi-nap/
END:VEVENT
END:VCALENDAR