BEGIN:VCALENDAR
VERSION:2.0
PRODID:-//eventon.com NONSGML v1.0//EN
CALSCALE:GREGORIAN
METHOD:PUBLISH
BEGIN:VEVENT
UID:69ed76926ddf9
DTSTAMP:20260426T022106Z
DTSTART:20260625T155300Z
DTEND:20260626T155300Z
LOCATION:
SUMMARY:Dél-dunántúli Régió horgászverseny
DESCRIPTION:Dél-dunántúli Régió horgászverseny\nhttps://omszse.hu/ese
 menyek/del-dunantuli-regio-horgaszverseny/
URL:https://omszse.hu/esemenyek/del-dunantuli-regio-horgaszverseny/
END:VEVENT
END:VCALENDAR