BEGIN:VCALENDAR
VERSION:2.0
PRODID:-//eventon.com NONSGML v1.0//EN
CALSCALE:GREGORIAN
METHOD:PUBLISH
BEGIN:VEVENT
UID:69ed7680aa931
DTSTAMP:20260426T022048Z
DTSTART:20260526T155400Z
DTEND:20260527T155400Z
LOCATION:
SUMMARY:Dél-alföldi Régió horgászverseny
DESCRIPTION:Dél-alföldi Régió horgászverseny\nhttps://omszse.hu/esemen
 yek/del-alfoldi-regio-horgaszverseny/
URL:https://omszse.hu/esemenyek/del-alfoldi-regio-horgaszverseny/
END:VEVENT
END:VCALENDAR