BEGIN:VCALENDAR
VERSION:2.0
PRODID:-//eventon.com NONSGML v1.0//EN
CALSCALE:GREGORIAN
METHOD:PUBLISH
BEGIN:VEVENT
UID:69ed768040c1e
DTSTAMP:20260426T022048Z
DTSTART:20260627T155600Z
DTEND:20260628T155600Z
LOCATION:
SUMMARY:Közép-dunántúli Régió horgászverseny
DESCRIPTION:Közép-dunántúli Régió horgászverseny\nhttps://omszse.hu/
 esemenyek/kozep-dunantuli-regio-horgaszverseny/
URL:https://omszse.hu/esemenyek/kozep-dunantuli-regio-horgaszverseny/
END:VEVENT
END:VCALENDAR