BEGIN:VCALENDAR
VERSION:2.0
PRODID:-//eventon.com NONSGML v1.0//EN
CALSCALE:GREGORIAN
METHOD:PUBLISH
BEGIN:VEVENT
UID:69ed76791e8e9
DTSTAMP:20260426T022041Z
DTSTART:20260523T160400Z
DTEND:20260523T160400Z
LOCATION:
SUMMARY:Országos Kéklámpás Darts Bajnokság
DESCRIPTION:Országos Kéklámpás Darts Bajnokság\nhttps://omszse.hu/esem
 enyek/orszagos-keklampas-darts-bajnoksag/
URL:https://omszse.hu/esemenyek/orszagos-keklampas-darts-bajnoksag/
END:VEVENT
END:VCALENDAR