BEGIN:VCALENDAR
VERSION:2.0
PRODID:-//eventon.com NONSGML v1.0//EN
CALSCALE:GREGORIAN
METHOD:PUBLISH
BEGIN:VEVENT
UID:69ed767f5da40
DTSTAMP:20260426T022047Z
DTSTART:20260426T070000Z
DTEND:20260426T160000Z
LOCATION:
SUMMARY:GurulÃ¡s a MÃ¡trÃ¡ban
DESCRIPTION:Szeretettel vÃ¡rja az OMSZ SE Motoros SzakosztÃ¡lya az Ã©rdeklÅ
 ‘dÅ‘ket az idei Ã©v elsÅ‘ motoros tÃºrÃ¡jÃ¡ra.\nhttps://omszse.hu/esemenyek
 /gurulas-a-matraban/
URL:https://omszse.hu/esemenyek/gurulas-a-matraban/
END:VEVENT
END:VCALENDAR