BEGIN:VCALENDAR
VERSION:2.0
PRODID:-//eventon.com NONSGML v1.0//EN
CALSCALE:GREGORIAN
METHOD:PUBLISH
BEGIN:VEVENT
UID:69ed76791e846
DTSTAMP:20260426T022041Z
DTSTART:20260605T060000Z
DTEND:20260605T170000Z
LOCATION:
SUMMARY:Szlovákiai kiruccanás
DESCRIPTION:A Motoros Szakosztály szlovákiai programja. Részletek hamaro
 san!\nhttps://omszse.hu/esemenyek/szlovakiai-kiruccanas/
URL:https://omszse.hu/esemenyek/szlovakiai-kiruccanas/
END:VEVENT
END:VCALENDAR