BEGIN:VCALENDAR
VERSION:2.0
PRODID:-//eventon.com NONSGML v1.0//EN
CALSCALE:GREGORIAN
METHOD:PUBLISH
BEGIN:VEVENT
UID:69ed78928e998
DTSTAMP:20260426T022938Z
DTSTART:20260725T070000Z
DTEND:20260726T170000Z
LOCATION:
SUMMARY:Sátrazás az Őrségben
DESCRIPTION:A Motoros Szakosztály programja. Részletek hamarosan!\nhttps:
 //omszse.hu/esemenyek/satrazas-az-orsegben/
URL:https://omszse.hu/esemenyek/satrazas-az-orsegben/
END:VEVENT
END:VCALENDAR