BEGIN:VCALENDAR
VERSION:2.0
PRODID:-//eventon.com NONSGML v1.0//EN
CALSCALE:GREGORIAN
METHOD:PUBLISH
BEGIN:VEVENT
UID:69ed7692eac9a
DTSTAMP:20260426T022106Z
DTSTART:20260529T043000Z
DTEND:20260529T170000Z
LOCATION:
SUMMARY:ÉMR Horgászkupa
DESCRIPTION:Információk a versenyről: https://omszse.hu/2026/03/29/emr-h
 orgaszkupa-felhivas/\nhttps://omszse.hu/esemenyek/emr-horgaszkupa/
URL:https://omszse.hu/esemenyek/emr-horgaszkupa/
END:VEVENT
END:VCALENDAR