BEGIN:VCALENDAR
VERSION:2.0
PRODID:-//eventon.com NONSGML v1.0//EN
CALSCALE:GREGORIAN
METHOD:PUBLISH
BEGIN:VEVENT
UID:69ed769207c04
DTSTAMP:20260426T022106Z
DTSTART:20260528T050000Z
DTEND:20260528T140000Z
LOCATION:
SUMMARY:ÉAR Regionális Horgászverseny
DESCRIPTION:ÉAR Regionális Horgászverseny\nhttps://omszse.hu/esemenyek/e
 ar-regionalis-horgaszverseny/
URL:https://omszse.hu/esemenyek/ear-regionalis-horgaszverseny/
END:VEVENT
END:VCALENDAR